BEGIN:VCALENDAR
VERSION:2.0
PRODID:icalendar-ruby
CALSCALE:GREGORIAN
BEGIN:VEVENT
DTSTAMP:20260423T205131Z
UID:8590d1ff-3369-498f-b7d7-80977558d365
DTSTART:20260224T043000Z
DTEND:20260224T053001Z
LOCATION:School Staffroom
SUMMARY:School Board Meeting 
END:VEVENT
END:VCALENDAR
