BEGIN:VCALENDAR
VERSION:2.0
PRODID:icalendar-ruby
CALSCALE:GREGORIAN
BEGIN:VEVENT
DTSTAMP:20260423T205131Z
UID:950566fa-ae9d-4b90-ba09-1ec535736a97
DTSTART:20260225T043000Z
DTEND:20260225T053001Z
DESCRIPTION:Come and see how we teach maths and how you can support your ch
 ildren at home!
SUMMARY:Years 1-3 Parent Information Evening - Maths
END:VEVENT
END:VCALENDAR
