BEGIN:VCALENDAR
VERSION:2.0
PRODID:icalendar-ruby
CALSCALE:GREGORIAN
BEGIN:VEVENT
DTSTAMP:20260423T205129Z
UID:822dd7f4-3fc7-4328-bc00-b554ecda6b3e
DTSTART;VALUE=DATE:20260302
DTEND;VALUE=DATE:20260307
SUMMARY:School Swimming Programme - Mornings
END:VEVENT
END:VCALENDAR
