BEGIN:VCALENDAR
VERSION:2.0
PRODID:icalendar-ruby
CALSCALE:GREGORIAN
BEGIN:VEVENT
DTSTAMP:20260423T205130Z
UID:ce42638f-276a-4a16-b865-b82425c59c77
DTSTART:20260310T020000Z
DTEND:20260310T060001Z
SUMMARY:Goal Setting Conferences - Afternoon / Early Evening
END:VEVENT
END:VCALENDAR
