BEGIN:VCALENDAR
VERSION:2.0
PRODID:icalendar-ruby
CALSCALE:GREGORIAN
BEGIN:VEVENT
DTSTAMP:20260423T205131Z
UID:12736177-068d-4967-9470-68277564dbac
DTSTART:20260312T020000Z
DTEND:20260312T060001Z
SUMMARY:Goal Setting Conferences - Afternoon / Early Evening
END:VEVENT
END:VCALENDAR
