BEGIN:VCALENDAR
VERSION:2.0
PRODID:icalendar-ruby
CALSCALE:GREGORIAN
BEGIN:VEVENT
DTSTAMP:20260423T205130Z
UID:98fa9651-69e9-415c-9a40-2d25c47b114c
DTSTART:20260314T050000Z
DTEND:20260314T060001Z
SUMMARY:School / Parish Mass 6pm St Bernadette's Church
END:VEVENT
END:VCALENDAR
